BEGIN:VCALENDAR
VERSION:2.0
PRODID:Events Booking
BEGIN:VEVENT
UID:69e86f77386d0
SUMMARY:HYBRID: VDR Fachtagung „Analysen für die Praxis“ – Holzobjek
 te im Fokus
DESCRIPTION:Die&nbsp\;Fachgruppe Möbel und Holzobjekte&nbsp\;im VDR lädt 
 herzlich vom 05.–07.11.2025 zur nächsten Fachtagung&nbsp\;\"Analysen f
 ür die Praxis – Untersuchungsmethoden für Holzobjekte in der Restaurie
 rungswissenschaft\"&nbsp\;ein. Unterstützt durch die HAWK Hildesheim\, er
 wartet Sie dort ein spannendes Programm voller innovativer Einblicke und p
 raxisnaher Anwendungen! Seien Sie vor Ort oder Online dabei.
DTSTART:20251104T230000Z
DTEND:20251106T230000Z
DTSTAMP:20250818T132635Z
ORGANIZER;CN=ÖRV:MAILTO:office@orv.at
END:VEVENT
END:VCALENDAR