BEGIN:VCALENDAR
VERSION:2.0
PRODID:Events Booking
BEGIN:VEVENT
UID:69e8c6039f052
SUMMARY:Hildesheimer Tag der Restaurierung - Einblicke in aktuelle Lehr- un
 d Forschungsgebiete an der HAWK
DESCRIPTION:Am Freitag\, 10. Oktober 2025\, ab 09:00 Uhr lädt die Fakultä
 t Bauen und Erhalten der HAWK Hochschule für angewandte Wissenschaft und 
 Kunst Hildesheim/Holzminden/Göttingen zum jährlichen Hildesheimer Tag de
 r Restaurierung in die Aula unter der Adresse Hohnsen 2 in Hildesheim ein.
  Die Veranstaltung richtet sich an das Fachpublikum sowie an die interessi
 erte Öffentlichkeit und bietet vielfältige Einblicke in aktuelle Lehr- u
 nd Forschungsbereiche der Studiengänge der Konservierung und Restaurierun
 g.
 Im Zentrum des Programms stehen die Fachvorträge von Absolvierenden\
 , die Ergebnisse ausgewählter Bachelor- und Masterarbeiten präsentieren.
  Das deckt die 4 Vertiefungsrichtungen – Gefasste Holzobjekte und Gemäl
 de\; Möbel\, Holzobjekte und Materialkombinationen\; Schriftgut\, Buch un
 d Grafik sowie Steinobjekte und Architekturoberflächen und die vertiefung
 sübergreifenden Lehrgebiete Mikrobiologie in der Restaurierung und Kunstg
 eschichte ab. Das breite Themenspektrum spiegelt den Facettenreichtum der 
 Studiengänge wider:
 &nbsp\;
DTSTART:20251009T220000Z
DTSTAMP:20250917T135242Z
ORGANIZER;CN=ÖRV:MAILTO:office@orv.at
END:VEVENT
END:VCALENDAR