BEGIN:VCALENDAR
VERSION:2.0
PRODID:Events Booking
BEGIN:VEVENT
UID:69e870d401bc3
SUMMARY:Future Talks 025 From failure to success Innovative case studies in
  the conservation of the modern
DESCRIPTION:16 years\, eight conferences and a good 230 lectures after the 
 first FUTURE TALKS conference in 2009\, we would like to dedicate the FUTU
 RE TALKS 025 conference to an aspect that is directly linked to the evolut
 ion of human culture: Innovation through mistakes. In our culture\, especi
 ally in the working environment of conservators and conservation scientist
 s\, mistakes are often associated with professional failure. This is under
 standable\, as in the worst case this can lead to the loss of irretrievabl
 e cultural assets. What is crucial in this context\, however\, is how to d
 eal with failure.
DTSTART:20251104T230000Z
DTEND:20251106T230000Z
DTSTAMP:20251007T132351Z
ORGANIZER;CN=ÖRV:MAILTO:office@orv.at
END:VEVENT
END:VCALENDAR