BEGIN:VCALENDAR
VERSION:2.0
PRODID:Events Booking
BEGIN:VEVENT
UID:69e8f0267c1e0
SUMMARY:Führung - nur für ÖRV-Mitglieder! : Paradise Lost - Die Tapisser
 ien des Salzburger Doms
DESCRIPTION:Restauratorin Regina Knaller hat die Tapisserien für die Ausst
 ellung im Nordoratorium des Doms vorbereitet. Gemeinsam mit Kurator Reinha
 rd Gratz vom Dommuseum wird sie durch die Ausstellung führen: Freitag\, 2
 6. September\, 14:00 Uhr.
 Treffpunkt: Residenzgalerie\, Kassa. Anmeldung
  erforderlich&nbsp\;: dommuseum@eds.at
 &nbsp\;
DTSTART:20250926T120000Z
DTSTAMP:20250910T143744Z
ORGANIZER;CN=ÖRV:MAILTO:office@orv.at
END:VEVENT
END:VCALENDAR