BEGIN:VCALENDAR
VERSION:2.0
PRODID:Events Booking
BEGIN:VEVENT
UID:69e8c5c9d5f11
SUMMARY:FIDA-Tagung \"Wo der Schuh drückt? – Aktuelle Fragestellungen zu
  Schadensursachen und Konservierung\"
DESCRIPTION:Am 09. Oktober findet zum vierten Mal die Fachtagung der FIDA&n
 bsp\;\"Wo&nbsp\;der Schuh drückt\" – Aktuelle Fragestellungen zu Schade
 nursachen und Konservierung in Kooperation mit dem Studiengang Konservieru
 ng und Restaurierung\, Fachrichtung Stein\,&nbsp\;an der FH Potsdam statt.
DTSTART:20251008T220000Z
DTEND:20251008T220000Z
DTSTAMP:20250812T121911Z
ORGANIZER;CN=ÖRV:MAILTO:office@orv.at
END:VEVENT
END:VCALENDAR