BEGIN:VCALENDAR
VERSION:2.0
PRODID:Events Booking
BEGIN:VEVENT
UID:69e8475e322bc
SUMMARY:Fachgespräch Zwischen Alt und Anders Umbaukultur für eine lebendi
 ge Zukunft
DESCRIPTION:Wie wollen wir in Zukunft leben – und wo? Angesichts von Leer
 stand\, steigenden Bodenpreisen und veränderten Lebensrealitäten gewinnt
  der Blick auf die Nutzung und Weiterentwicklung bestehender Ortskerne zun
 ehmend an Bedeutung. Das Fachgespräch „Zwischen Alt und Anders – Umba
 ukultur für eine lebendige Zukunft“\, das am 24. und 25. November 2025 
 in Linz stattfindet\, widmet sich dem sensiblen Weiterbauen im historische
 n Bestand\, der Rolle von Ortsbild- und Denkmalschutz sowie innovativen St
 rategien für nachhaltige Transformation.
DTSTART:20251123T230000Z
DTEND:20251124T230000Z
DTSTAMP:20250916T124741Z
ORGANIZER;CN=ÖRV:MAILTO:office@orv.at
END:VEVENT
END:VCALENDAR