BEGIN:VCALENDAR
VERSION:2.0
PRODID:Events Booking
BEGIN:VEVENT
UID:69e8b18dc8042
SUMMARY:Europäischer Tag der Restaurierung im KHM-Museumsverband - Erhalte
 n. Erforschen. Erzählen – wie Konservierung Geschichte(n) bewahrt
DESCRIPTION:Der Europäische Tag der Restaurierung ermöglicht spannende Ei
 nblicke in die Arbeit von Restaurator:innen. Auch das Kunsthistorische Mus
 eum\, das Theatermuseum und das Weltmuseum Wien sind 2025 wieder mit dabei
 .
DTSTART:20251017T120000Z
DTEND:20251017T160000Z
DTSTAMP:20251005T104602Z
ORGANIZER;CN=ÖRV:MAILTO:office@orv.at
END:VEVENT
END:VCALENDAR