BEGIN:VCALENDAR
VERSION:2.0
PRODID:Events Booking
BEGIN:VEVENT
UID:69e8b2a850396
SUMMARY:Erhalten. Erforschen. Erzählen – wie Konservierung Geschichte(n)
  bewahrt
DESCRIPTION:Der KHM-Museumsverband beteiligt sich heuer am Europäischen Ta
 g der Restaurierung und wird am Freitag\, den 17.10.2025\, Vorträge aus u
 nterschiedlichen Sammlungen anbieten. Es erwarten euch&nbsp\;spannende Ein
 blicke in die Arbeit der Restaurator:innen im Kunsthistorischen Museum\, T
 heatermuseum und Weltmuseum Wien.&nbsp\;Teilnahme mit gültigem Museumstic
 ket kostenlos.
 &gt\;&gt\;&gt\; weitere Informationen zum Programm
 &nbs
 p\;
DTSTART:20251017T120000Z
DTEND:20251017T160000Z
DTSTAMP:20251007T134856Z
ORGANIZER;CN=ÖRV:MAILTO:office@orv.at
END:VEVENT
END:VCALENDAR