BEGIN:VCALENDAR
VERSION:2.0
PRODID:Events Booking
BEGIN:VEVENT
UID:69e78a5c05290
SUMMARY:EINLADUNG ZUR THEMENWERKSTATT - „Rahmenbedingungen“ Die Glasmal
 erei und ihre Anschlussgewerke
DESCRIPTION:&nbsp\;
 Glasmalereien sind als ein integraler Bestandteil ein
 er spezifischen Architektur geplant\, entworfen und ausgeführt worden. In
  ihrer gestalterischen und künstlerischen Dimension beziehen diese Werke 
 ihre Wirkung wesentlich aus dem architektonischen Umfeld. Abseits dieser P
 erspektive bleiben jedoch die unmittelbar angrenzenden Anschlussgewerke h
 äufig unbeachtet.
DTSTART:20260213T091500Z
DTSTAMP:20260122T163604Z
ORGANIZER;CN=ÖRV:MAILTO:office@orv.at
END:VEVENT
END:VCALENDAR