BEGIN:VCALENDAR
VERSION:2.0
PRODID:Events Booking
BEGIN:VEVENT
UID:69ecc6ddf0b60
SUMMARY:Der Restaurator*innen Business Jam -  ein monatlicher digitaler Cow
 orking-Space für selbstständige Restaurator*innen exklusiv für Mitglied
 er des ÖRV
DESCRIPTION:Du bist selbstständige*r Restaurator*in und hast neben deinem 
 praktischen Arbeitsalltag einen Stapel unerledigter und aufgeschobener Bü
 rotätigkeiten? Du kannst dich alleine schlecht motivieren? Dann nimm an u
 nserem monatlichen digitalen Coworking-Space teil.
DTSTART:20250604T070000Z
DTEND:20250604T100000Z
DTSTAMP:20250523T143134Z
ORGANIZER;CN=ÖRV:MAILTO:office@orv.at
END:VEVENT
END:VCALENDAR