BEGIN:VCALENDAR
VERSION:2.0
PRODID:Events Booking
BEGIN:VEVENT
UID:69ed4ee9ec57a
SUMMARY:Der Call for Papers für unsere Jubiläumstagung \"40 Jahre ÖRV 
 – Ein Berufsbild im Wandel?\" 
DESCRIPTION:Der Call for Papers für unsere Jubiläumstagung \"40 Jahre ÖR
 V – Ein Berufsbild im Wandel?\"&nbsp\;ist nun eröffnet.
DTSTART:20250417T220000Z
DTEND:20250417T220000Z
DTSTAMP:20250412T084612Z
ORGANIZER;CN=ÖRV:MAILTO:office@orv.at
END:VEVENT
END:VCALENDAR