BEGIN:VCALENDAR
VERSION:2.0
PRODID:Events Booking
BEGIN:VEVENT
UID:69e7b2189ab68
SUMMARY:Denkmalrechtstag 2026
DESCRIPTION:Das Bundesdenkmalamt und die Rechtswissenschaftliche Fakultät 
 der Universität Wien laden zum
 Denkmalrechtstag 2026&nbsp\;mit dem Schw
 erpunkt&nbsp\;Denkmalschutzrechtliche Sicherungsmaßnahmen&nbsp\;am&nbsp\;
 Dienstag\, den 27. Jänner 2026\, um 10.00 Uhr&nbsp\;in das&nbsp\;Juridicu
 m (Dachgeschoß)\, Schottenbastei 10–16\, 1010 Wien&nbsp\;ein.
 Bitte e
 ntnehmen Sie die weiteren Details dem Programm anbei und melden Sie sich b
 is&nbsp\;20. Jänner 2026&nbsp\;zur Veranstaltung hier an:&nbsp\;ANMELDUNG
 
 Mit der Teilnahme erklären Sie sich damit einverstanden\, dass währen
 d der Veranstaltung angefertigte Foto-\, Ton- und Videoaufnahmen für die 
 Öffentlichkeitsarbeit des Bundesdenkmalamtes verwendet werden.
 Als Beit
 rag zum Klimaschutz empfehlen wir die Anreise mit öffentlichen Verkehrsmi
 tteln. So finden Sie uns:&nbsp\;https://maps.app.goo.gl/pLBh5jBWVLYtgYik8
 
 Weitere Informationen finden Sie hier:programm_denkmalrechtstag_2026_bf.
 pdf
DTSTART:20260127T090000Z
DTSTAMP:20260117T152351Z
ORGANIZER;CN=ÖRV:MAILTO:office@orv.at
END:VEVENT
END:VCALENDAR