BEGIN:VCALENDAR
VERSION:2.0
PRODID:Events Booking
BEGIN:VEVENT
UID:69e9046f74419
SUMMARY:Das grüne Museum  - Museen\, Archive\, Depots: Nachhaltig planen\,
  bauen und betreiben 
DESCRIPTION:#DasgrüneMuseum 2025 zeigt: Wie gelingt nachhaltiger Museums- 
 &amp\; Depotbau in der Praxis? Mit Erfahrungsberichten\, Bauprojekten &amp
 \; präventiver Konservierung.
DTSTART:20250917T220000Z
DTEND:20250917T220000Z
DTSTAMP:20250808T122434Z
ORGANIZER;CN=ÖRV:MAILTO:office@orv.at
END:VEVENT
END:VCALENDAR