BEGIN:VCALENDAR
VERSION:2.0
PRODID:Events Booking
BEGIN:VEVENT
UID:69e89e236c8b5
SUMMARY:Das grüne Museum - Museen\, Archive\, Depots: Nachhaltig planen\, 
 bauen und betreiben
DESCRIPTION:#DasgrüneMuseum 2025 zeigt: Wie gelingt nachhaltiger Museums- 
 &amp\; Depotbau in der Praxis? Mit Erfahrungsberichten\, Bauprojekten &amp
 \; präventiver Konservierung.
DTSTART:20251022T220000Z
DTEND:20251022T220000Z
DTSTAMP:20250808T122909Z
ORGANIZER;CN=ÖRV:MAILTO:office@orv.at
END:VEVENT
END:VCALENDAR