BEGIN:VCALENDAR
VERSION:2.0
PRODID:Events Booking
BEGIN:VEVENT
UID:69e8d918ebe9d
SUMMARY:Das grüne Museum - Museen\, Archive\, Depots: Nachhaltig planen\, 
 bauen und betreiben
DESCRIPTION:#DasgrüneMuseum 2025 zeigt: Wie gelingt nachhaltiger Museums- 
 &amp\; Depotbau in der Praxis? Mit Erfahrungsberichten\, Bauprojekten &amp
 \; präventiver Konservierung.
DTSTART:20250930T220000Z
DTEND:20250930T220000Z
DTSTAMP:20250808T122816Z
ORGANIZER;CN=ÖRV:MAILTO:office@orv.at
END:VEVENT
END:VCALENDAR