BEGIN:VCALENDAR
VERSION:2.0
PRODID:Events Booking
BEGIN:VEVENT
UID:69e86fbf0da06
SUMMARY:Hybrid-Conference : HERITAGE MEETS SCIENCE - INFRASTRUCTURES AND RE
 SEARCH PERSPECTIVES IN AUSTRIA
DESCRIPTION:Cultural Heritage is the multifaceted legacy we inherit from th
 e past\, live with in the present\, and pass on to future generations. It 
 embodies what makes us human while at the same time anchoring us within sp
 ecific national\, ethnic\, religious\, social\, gender\, or linguistic gro
 ups.In this spirit\, the Austrian Archaeological Institute of the Austrian
  Academy of Sciences\, as the future host of the national node of the Cons
 ortium E-RIHS (European Research Infrastructure for Heritage Science)\, is
  pleased to organise the “Heritage Meets Science” 2025 Conference.
DTSTART:20251105T230000Z
DTEND:20251106T230000Z
DTSTAMP:20251024T150111Z
ORGANIZER;CN=ÖRV:MAILTO:office@orv.at
END:VEVENT
END:VCALENDAR