BEGIN:VCALENDAR
VERSION:2.0
PRODID:Events Booking
BEGIN:VEVENT
UID:69ecefe054e7c
SUMMARY:CICS-Ringvorlesung (Hybrid): PoCo – Polychromie Conservering. Ein
  Trainingsprogramm zur Skulpturenrestaurierung des SRAL
DESCRIPTION:Bedeutende polychrome Werke aus Stein und Holz befinden sich in
  niederländischen Kirchen\, Museen und Sammlungen. Das Studienangebot fü
 r Skulpturenrestaurierung war jedoch seit jeher begrenzt und ist nun gänz
 lich verschwunden. Um das vorhandene Wissen an die nächste Generation wei
 terzugeben hat das SRAL einmalig ein dreijähriges Ausbildungsprogramm ini
 tiiert\, bei dem auch das CICS Kooperationspartner ist. Angesichts ähnlic
 h dramatischer Entwicklungen in Deutschland ist dieser Ansatz besonders be
 merkenswert.
LOCATION:Ubierring\, Köln\, 50678 Nordrhein-Westfalen\, Deutschland
DTSTART:20250520T150000Z
DTSTAMP:20250413T161721Z
ORGANIZER;CN=ÖRV:MAILTO:office@orv.at
GEO:50.921232;6.963128
X-APPLE-STRUCTURED-LOCATION;VALUE=URI;X-ADDRESS=Ubierring\, Köln\, 50678 N
 ordrhein-Westfalen\, Deutschland;X-APPLE-RADIUS=72;X-TITLE=TH Köln\, Camp
 us Südstadt :50.921232;6.963128
END:VEVENT
END:VCALENDAR