BEGIN:VCALENDAR
VERSION:2.0
PRODID:Events Booking
BEGIN:VEVENT
UID:69ed4dd9d517a
SUMMARY:CICS-Ringvorlesung (Hybrid): Klebung in der Steinrestaurierung: Gru
 ndlagen\, Erfahrungen\, Fallbeispiele
DESCRIPTION:In der Stein- und Keramikrestaurierung ist das Kleben von Fragm
 enten eine elementare Aufgabe\, denn oft werden Kunst- und Kulturgüter er
 st durch das Zusammenfügen für den Betrachter wieder erlebbar. Die Palet
 te der verfügbaren Klebstoffe ist breit\, die Entscheidung für das richt
 ige Material für die jeweilige Aufgabenstellung setzt zunächst physikali
 sche und chemische Grundkenntnisse voraus. Weiterhin werden die Klebstoffe
  nach Aushärtungsmechanismus und chemischer Zusammensetzung charakterisie
 rt und eingeordnet. Die handwerkliche Umsetzung von Klebungen wird anhand 
 von vielfältigen Fallbeispiele aus der Berufspraxis illustriert. Eine gro
 ße Herausforderung sind Klebeinjektionen in der Baudenkmalpflege oder an 
 Skulpturen\, auch hierzu werden praktische Erfahrungen vorgestellt.
LOCATION:Ubierring\, Köln\, 50678 Nordrhein-Westfalen\, Deutschland
DTSTART:20250415T150000Z
DTSTAMP:20250413T160726Z
ORGANIZER;CN=ÖRV:MAILTO:office@orv.at
GEO:50.921232;6.963128
X-APPLE-STRUCTURED-LOCATION;VALUE=URI;X-ADDRESS=Ubierring\, Köln\, 50678 N
 ordrhein-Westfalen\, Deutschland;X-APPLE-RADIUS=72;X-TITLE=TH Köln\, Camp
 us Südstadt :50.921232;6.963128
END:VEVENT
END:VCALENDAR