BEGIN:VCALENDAR
VERSION:2.0
PRODID:Events Booking
BEGIN:VEVENT
UID:69e9189c2436b
SUMMARY:Call for Papers: VDR Fachtagung: „Restaurierung industrieller Kul
 turgüter – Praxis\, Probleme\, Perspektiven“ 
DESCRIPTION:Call for Papers: Restaurierung industrieller Kulturgüter – P
 raxis\, Probleme\, Perspektiven18.–19. Juni 2026 | Verkehrszentrum\, Deu
 tsches Museum München
 Die VDR-Fachgruppe Industrielles Kulturgut / Kult
 urgut der Moderne (IKKM)&nbsp\;im VDR lädt herzlich zur Mitwirkung an der
  Tagung 2026 ein!
DTSTART:20250913T220000Z
DTEND:20250913T220000Z
DTSTAMP:20250822T121645Z
ORGANIZER;CN=ÖRV:MAILTO:office@orv.at
END:VEVENT
END:VCALENDAR