BEGIN:VCALENDAR
VERSION:2.0
PRODID:Events Booking
BEGIN:VEVENT
UID:69e943b955a9a
SUMMARY:Call for Papers -  Restaurierungsblätter - Papers in Conservation 
 #42
DESCRIPTION:Sehr geehrte Mitglieder\,Sehr geehrte Kolleginnen und Kollegen\
 ,&nbsp\;
 wir möchte Sie an unseren aktuellen Call for Papers für die&n
 bsp\;Restaurierungsblätter - Papers in Conservation&nbsp\;#42&nbsp\;erinn
 ern und auf die verlängerte Einreichfrist hinweisen (siehe Anhang). Gerne
  können Sie ihn in Ihrem Fachkkreis weiterleiten und publik machen.&nbsp\
 ;&nbsp\;
DTSTART:20250830T220000Z
DTEND:20250830T220000Z
DTSTAMP:20250818T130438Z
ORGANIZER;CN=ÖRV:MAILTO:office@orv.at
END:VEVENT
END:VCALENDAR