BEGIN:VCALENDAR
VERSION:2.0
PRODID:Events Booking
BEGIN:VEVENT
UID:69e955177d953
SUMMARY:Call for Papers: Restaurierungsblätter – Papers in Conservation 
 #42 unschön aber schützenswert – unpleasant but worth preserving
DESCRIPTION:Die IIC Austria lädt zur Einreichung von Beiträgen für die k
 ommende Ausgabe der Restaurierungsblätter – Papers in Conservation ein.
 .
DTSTART:20250814T220000Z
DTEND:20250814T220000Z
DTSTAMP:20250701T133727Z
ORGANIZER;CN=ÖRV:MAILTO:office@orv.at
END:VEVENT
END:VCALENDAR