BEGIN:VCALENDAR
VERSION:2.0
PRODID:Events Booking
BEGIN:VEVENT
UID:69ed262e6555a
SUMMARY:Call for Papers: ÖRV Journal #18
DESCRIPTION:Für die Ausgabe #18 des ÖRV-Journals können ab sofort wieder
  Fachbeiträge eingereicht werden. Die Frist läuft bis 30. April 2025\, D
 ruck &amp\; Versand sind für Juli/August 2025 geplant. Bei Rückfragen hi
 nsichtlich der Eignung von Themen bzw. Texten gerne das Redaktionsteam kon
 taktieren (journal@orv.at). Es können gerne auch kürzere Berichte bzw. M
 itteilungen eingereicht werden! – Publikationsrichtlinien und Details: P
 DF im Anhang.
DTSTART:20250429T220000Z
DTSTAMP:20250305T123207Z
ORGANIZER;CN=ÖRV:MAILTO:office@orv.at
END:VEVENT
END:VCALENDAR