BEGIN:VCALENDAR
VERSION:2.0
PRODID:Events Booking
BEGIN:VEVENT
UID:69e77af0ce0c6
SUMMARY:Call for Papers: International Conference Florence Heri-Tech  5th E
 dition   The Future of Heritage Science and Technologies
DESCRIPTION:
 CALL FOR PAPERS IS OPEN!Extended Deadline February 18\, 2026
 The Conference will take place from 27-30 April 2026\,Weitere Informatione
 n findet ihr hier:Florence Heri-Tech
 &nbsp\;
 
DTSTART:20260217T230000Z
DTEND:20260217T230000Z
DTSTAMP:20260117T154214Z
ORGANIZER;CN=ÖRV:MAILTO:office@orv.at
END:VEVENT
END:VCALENDAR