BEGIN:VCALENDAR
VERSION:2.0
PRODID:Events Booking
BEGIN:VEVENT
UID:69e85a054031a
SUMMARY:Buchvorstellung: Sigrid Eyb-Green: Eine Disziplinierung des Blicks
  – Die Restaurierungsausbildung an der Akademie der bildenden Künste 
 Wien im 20. Jahrhundert. 
DESCRIPTION:Herzliche Einladung zur Buchvorstellung:&nbsp\;
 Sigrid Eyb-Gr
 een:&nbsp\;Eine Disziplinierung des Blicks&nbsp\;–&nbsp\;Die Restaurieru
 ngsausbildung an der Akademie der bildenden Künste Wien im 20. Jahrhunder
 t.&nbsp\;&nbsp\;Wien\, Verlag Letter P
 Nach der Begrüßung durch Rektor
  Johan F. Hartle diskutiert sie mit Karen Kastenhofer (Institut für Techn
 ikfolgen-Abschätzung\, ÖAW)\, Jakob Krameritsch (Institut für Kunst- un
 d Kulturwissenschaften\, Akademie der bildenden Künste Wien) und Catherin
 e Bouvier (Forschungsprojekt Geschichte der Restaurierung in Österreich) 
 über das Buch.Die Moderation übernimmt Philipp Schmoetten (Letter P).
 
 Details zu der Veranstaltung siehe:&nbsp\;https://www.akbild.ac.at/de/univ
 ersitaet/universitaetsbibliothek/veranstaltungen-1/vortraege-events/2025/e
 ine-disziplinierung-des-blicks
DTSTART:20251112T170000Z
DTSTAMP:20251030T175248Z
ORGANIZER;CN=ÖRV:MAILTO:office@orv.at
END:VEVENT
END:VCALENDAR