BEGIN:VCALENDAR
VERSION:2.0
PRODID:Events Booking
BEGIN:VEVENT
UID:69ecdd7dbaea5
SUMMARY:Ausstellungseröffnung: READY TO BE COMPLETED
DESCRIPTION:Das FWF PEEK Forschungsprojekt BROKEN COLLECTION lädt ein zur 
 AUSSTELLUNGSERÖFFNUNG READY TO BE COMPLETED im Schloss Loosdorf.
LOCATION:Loosdorf\, 2133 Niederösterreich\, Österreich
DTSTART:20250531T130000Z
DTEND:20250530T220000Z
DTSTAMP:20250521T133811Z
ORGANIZER;CN=ÖRV:MAILTO:office@orv.at
END:VEVENT
END:VCALENDAR