BEGIN:VCALENDAR
VERSION:2.0
PRODID:Events Booking
BEGIN:VEVENT
UID:69e8b23a2d13e
SUMMARY:Abschlusstagung des DBU-Projekts „Dosis und Auswirkung anthropoge
 ner Schadstoffe in Vitrinen
DESCRIPTION:Das von der DBU geförderte Projekt „Dosis und Auswirkung ant
 hropogener Schadstoffe in Vitrinen“ widmet sich einer der drängendsten 
 Herausforderungen der Museumskonservierung: dem Schutz wertvoller Kulturg
 üter vor schädlichen Umwelteinflüssen in Ausstellungsvitrinen. Paradoxe
 rweise können Schauvitrinen\, die eigentlich dem Schutz dienen\, durch ge
 ringe Luftwechselraten zur Ansammlung von Schadstoffen beitragen. Zahlreic
 he Verbindungen können als Luftschadstoffe Probleme in Vitrinen verursach
 en.
DTSTART:20251013T073000Z
DTSTAMP:20250829T120822Z
ORGANIZER;CN=ÖRV:MAILTO:office@orv.at
END:VEVENT
END:VCALENDAR