BEGIN:VCALENDAR
VERSION:2.0
PRODID:Events Booking
BEGIN:VEVENT
UID:69e8dd1b56eff
SUMMARY:3D-Digitalisierungs-Workshop: „Vom Fossil bis zur Statue – hoch
 wertige\, automatisierte 3D-Erfassung\" (Walter Nagel)
DESCRIPTION:Lernen Sie neueste Verfahren kennen\, mit denen Objekte untersc
 hiedlichster Größe und Beschaffenheit in höchster Qualität digitalisie
 rt werden\, von kompakten\, budgetfreundlichen Lösungen bis zu vollautoma
 tisierten High-End-Systemen.
DTSTART:20251001T220000Z
DTSTAMP:20250818T133620Z
ORGANIZER;CN=ÖRV:MAILTO:office@orv.at
END:VEVENT
END:VCALENDAR