BEGIN:VCALENDAR
VERSION:2.0
PRODID:Events Booking
BEGIN:VEVENT
UID:69ed2836b351c
SUMMARY:‍28. Österreichische Restaurator:innentagung der archäologische
 n Bodenfunde in Wien
DESCRIPTION:Am&nbsp\;17.-18. September 2025&nbsp\;findet in Wien die&nbsp\;
 28. Österreichische Restaurator:innentagung für archäologische Funde&nb
 sp\;statt.
 Das Bundesdenkmalamt freut sich\, die diesjährige Restaurato
 r:innentagung als Gastgeber ausrichten zu dürfen.
DTSTART:20250430T220000Z
DTEND:20250430T220000Z
DTSTAMP:20250413T163136Z
ORGANIZER;CN=ÖRV:MAILTO:office@orv.at
END:VEVENT
END:VCALENDAR