BEGIN:VCALENDAR
VERSION:2.0
PRODID:Events Booking
BEGIN:VEVENT
UID:69ed016057dc2
SUMMARY:1st STECCI Conference: Preserving Cultural Heritage in Times of Cli
 mate Change
DESCRIPTION:This is a friendly reminder that the call for abstracts is open
  until 15&nbsp\;May 2025\, and we are looking forward to your contribution
 s!
 1st STECCI Conference: Preserving Cultural Heritage in Times of Clima
 te Change
 to be held on 25th – 27th September 2025\, at the University
  of Applied Arts Vienna
LOCATION:Oskar-Kokoschka-Platz\, Wien\, 1010\, Österreich
DTSTART:20250514T220000Z
DTEND:20250514T220000Z
DTSTAMP:20250503T041857Z
ORGANIZER;CN=ÖRV:MAILTO:office@orv.at
GEO:48.208091;16.382502
X-APPLE-STRUCTURED-LOCATION;VALUE=URI;X-ADDRESS=Oskar-Kokoschka-Platz\, Wie
 n\, 1010\, Österreich;X-APPLE-RADIUS=72;X-TITLE=Universität für angewan
 dte Kunst Wien:48.208091;16.382502
END:VEVENT
END:VCALENDAR