BEGIN:VCALENDAR
VERSION:2.0
PRODID:Events Booking
BEGIN:VEVENT
UID:69e8efb5e1fe5
SUMMARY:1st STECCI Conference: Preserving Cultural Heritage in Times of Cli
 mate Change - Hybrid
DESCRIPTION:Register NOW
 Topics to be addressed in the conference:
 
 C
 limate change impacts and vulnerability assessment of tangible heritage
 
 Advanced methodologies and environmentally sustainable solutions in herita
 ge conservation
 Social and economic impact of climate change on cultural
  heritage
 Digitalization of cultural heritage
 
LOCATION:Oskar-Kokoschka-Platz\, Wien\, 1010\, Österreich
DTSTART:20250924T220000Z
DTEND:20250926T220000Z
DTSTAMP:20250818T131050Z
ORGANIZER;CN=ÖRV:MAILTO:office@orv.at
GEO:48.208091;16.382502
X-APPLE-STRUCTURED-LOCATION;VALUE=URI;X-ADDRESS=Oskar-Kokoschka-Platz\, Wie
 n\, 1010\, Österreich;X-APPLE-RADIUS=72;X-TITLE=Universität für angewan
 dte Kunst Wien:48.208091;16.382502
END:VEVENT
END:VCALENDAR