BEGIN:VCALENDAR
VERSION:2.0
PRODID:Events Booking
BEGIN:VEVENT
UID:69ecdc0403ee4
SUMMARY:Call for Abstracs (extended till 31 May 2025) - 1st STECCI Confere
 nce: Preserving Cultural Heritage in Times of Climate Change
DESCRIPTION:The EU Horizon STECCI research project\, launched in 2023\, is 
 committed to creating sustainable\, innovative strategies for protecting E
 urope’s cultural heritage. The project focuses on stećci\, tombstones i
 n the Balkans\, and ways to safeguard them from the effects of climate cha
 nge and related threats.
LOCATION:Oskar-Kokoschka-Platz\, Wien\, 1010\, Österreich
DTSTART:20250530T220000Z
DTEND:20250530T220000Z
DTSTAMP:20250522T134235Z
ORGANIZER;CN=ÖRV:MAILTO:office@orv.at
GEO:48.208091;16.382502
X-APPLE-STRUCTURED-LOCATION;VALUE=URI;X-ADDRESS=Oskar-Kokoschka-Platz\, Wie
 n\, 1010\, Österreich;X-APPLE-RADIUS=72;X-TITLE=Universität für angewan
 dte Kunst Wien:48.208091;16.382502
END:VEVENT
END:VCALENDAR