BEGIN:VCALENDAR
VERSION:2.0
PRODID:Events Booking
BEGIN:VEVENT
UID:69e89a023e435
SUMMARY:15th Conference of the International Committee for the Conservation
  of Mosaics (ICCM)
DESCRIPTION:The 15th Conference of the International Committee for the Cons
 ervation of Mosaics (ICCM) will be held in&nbsp\;Athens\, Greece\, October
  20-24\, 2025\,&nbsp\;at the invitation of the Directorate of Conservation
  of Ancient and Modern Monuments (DECAMM)\, Hellenic Ministry of Culture.
DTSTART:20251021T220000Z
DTEND:20251023T220000Z
DTSTAMP:20250412T085602Z
ORGANIZER;CN=ÖRV:MAILTO:office@orv.at
END:VEVENT
END:VCALENDAR