BEGIN:VCALENDAR
VERSION:2.0
PRODID:Events Booking
BEGIN:VEVENT
UID:69ed0038c3aaf
SUMMARY:Call for Papers: 14. Kongress der internationalen konservierungswis
 senschaftlichen Plattform LACONA
DESCRIPTION:Heuer findet der 14. Kongress der internationalen konservierung
 swissenschaftlichen Plattform LACONA vom 9. bis 12. September in Bukarest 
 statt.
 Neben dem Einsatz des Lasers als beschichtungsabtragendes Tool (z
 .B. Er.YAG-Laser\, UV - IR Nd:YAG Laser\, UV-Laser\, Femtosecond Laser\, E
 xcimer Laser\, LQS Laser\, Punktlaser Zeilenlaser\, Kreislauflaser\,….)\
 , steht vor allem die Verwendung von laserbasierenden Spezialgerätschafte
 n zur Analyse (z.B. LIBS\, Raman Microscopy\, LIFS\, Laser –Indused Plas
 ma Spectroscopy\, Raman Spectrometer\, ED-XRF\, \,……) und Dokumentatio
 n (z.B. Optical Coherene Tomography\, sämtliche Scannertypen\,…) des ku
 lturellen Erbes im Fokus der Veranstaltung.
DTSTART:20250515T220000Z
DTEND:20250515T220000Z
DTSTAMP:20250418T143040Z
ORGANIZER;CN=ÖRV:MAILTO:office@orv.at
END:VEVENT
END:VCALENDAR