BEGIN:VCALENDAR
VERSION:2.0
PRODID:Events Booking
BEGIN:VEVENT
UID:69ecf0a3ce401
SUMMARY:130 Jahre Textilrestaurierung im Heeresgeschichtlichen Museum
DESCRIPTION:Was machen Restaurator:innen eigentlich genau und warum? Diesen
  Fragen widmet sich HGM-Textilrestauratorin Nina Zangerl und erklärt anha
 nd zahlreicher Beispiele Methoden zur Erhaltung von textilen Objekten aus 
 der Sammlung des Heeresgeschichtlichen Museums.&nbsp\;
LOCATION:Arsenal\, Wien\, 1030\, Österreich
DTSTART:20250521T170000Z
DTEND:20250520T220000Z
DTSTAMP:20250507T152535Z
ORGANIZER;CN=ÖRV:MAILTO:office@orv.at
GEO:48.184034;16.39152
X-APPLE-STRUCTURED-LOCATION;VALUE=URI;X-ADDRESS=Arsenal\, Wien\, 1030\, Ös
 terreich;X-APPLE-RADIUS=72;X-TITLE=Heeresgeschichtlichen Museum\, Wien:48.
 184034;16.39152
END:VEVENT
END:VCALENDAR